BEGIN:VCALENDAR
VERSION:2.0
PRODID:-//OV SEA HAGS - ECPv6.15.20//NONSGML v1.0//EN
CALSCALE:GREGORIAN
METHOD:PUBLISH
X-ORIGINAL-URL:https://ovseahags.com
X-WR-CALDESC:Events for OV SEA HAGS
REFRESH-INTERVAL;VALUE=DURATION:PT1H
X-Robots-Tag:noindex
X-PUBLISHED-TTL:PT1H
BEGIN:VTIMEZONE
TZID:America/New_York
BEGIN:DAYLIGHT
TZOFFSETFROM:-0500
TZOFFSETTO:-0400
TZNAME:EDT
DTSTART:20240310T070000
END:DAYLIGHT
BEGIN:STANDARD
TZOFFSETFROM:-0400
TZOFFSETTO:-0500
TZNAME:EST
DTSTART:20241103T060000
END:STANDARD
BEGIN:DAYLIGHT
TZOFFSETFROM:-0500
TZOFFSETTO:-0400
TZNAME:EDT
DTSTART:20250309T070000
END:DAYLIGHT
BEGIN:STANDARD
TZOFFSETFROM:-0400
TZOFFSETTO:-0500
TZNAME:EST
DTSTART:20251102T060000
END:STANDARD
BEGIN:DAYLIGHT
TZOFFSETFROM:-0500
TZOFFSETTO:-0400
TZNAME:EDT
DTSTART:20260308T070000
END:DAYLIGHT
BEGIN:STANDARD
TZOFFSETFROM:-0400
TZOFFSETTO:-0500
TZNAME:EST
DTSTART:20261101T060000
END:STANDARD
END:VTIMEZONE
BEGIN:VEVENT
DTSTART;TZID=America/New_York:20251207T140000
DTEND;TZID=America/New_York:20251207T180000
DTSTAMP:20260419T235119
CREATED:20251202T004352Z
LAST-MODIFIED:20260121T004232Z
UID:192-1765116000-1765130400@ovseahags.com
SUMMARY:Secret Flash Mob - Krampas!
DESCRIPTION:Shhhh it’s a secret! The OV Sea Hags will perform a Flash Mob of the Broom Dance at a popular venue as part of a community event for a local business. We’re not disclosing where or the exact time. Hopefully you’ll be attending and you’ll see us! \nNow that’s it’s over we can reveal our event was at Maker’s Craft Brewery for their KRAMPUS event. We all had a wonderful time!
URL:https://ovseahags.com/event/secret-flash-mob/
LOCATION:VA
CATEGORIES:Events
END:VEVENT
END:VCALENDAR