BEGIN:VCALENDAR
VERSION:2.0
PRODID:-//OV SEA HAGS - ECPv6.15.20//NONSGML v1.0//EN
CALSCALE:GREGORIAN
METHOD:PUBLISH
X-ORIGINAL-URL:https://ovseahags.com
X-WR-CALDESC:Events for OV SEA HAGS
REFRESH-INTERVAL;VALUE=DURATION:PT1H
X-Robots-Tag:noindex
X-PUBLISHED-TTL:PT1H
BEGIN:VTIMEZONE
TZID:America/New_York
BEGIN:DAYLIGHT
TZOFFSETFROM:-0500
TZOFFSETTO:-0400
TZNAME:EDT
DTSTART:20250309T070000
END:DAYLIGHT
BEGIN:STANDARD
TZOFFSETFROM:-0400
TZOFFSETTO:-0500
TZNAME:EST
DTSTART:20251102T060000
END:STANDARD
BEGIN:DAYLIGHT
TZOFFSETFROM:-0500
TZOFFSETTO:-0400
TZNAME:EDT
DTSTART:20260308T070000
END:DAYLIGHT
BEGIN:STANDARD
TZOFFSETFROM:-0400
TZOFFSETTO:-0500
TZNAME:EST
DTSTART:20261101T060000
END:STANDARD
BEGIN:DAYLIGHT
TZOFFSETFROM:-0500
TZOFFSETTO:-0400
TZNAME:EDT
DTSTART:20270314T070000
END:DAYLIGHT
BEGIN:STANDARD
TZOFFSETFROM:-0400
TZOFFSETTO:-0500
TZNAME:EST
DTSTART:20271107T060000
END:STANDARD
END:VTIMEZONE
BEGIN:VEVENT
DTSTART;TZID=America/New_York:20260314T100000
DTEND;TZID=America/New_York:20260314T120000
DTSTAMP:20260419T200054
CREATED:20260116T022353Z
LAST-MODIFIED:20260120T234510Z
UID:389-1773482400-1773489600@ovseahags.com
SUMMARY:St Patrick's Day Parade
DESCRIPTION:59th Annual Saint Patrick’s Day Parade\nCOME CHEER US ON IN OUR FIRST PARADE!\nThe parade begins at Northside Middle School. From that point\, it travels North on Granby\, turns left at A View Ave\, turns left on First View Street\, and ends at the intersection of First View and Government Ave. \nRemember that the parade afterparty\, thrown by the Columbian Club of Ocean View\, is held at 211 W. Government Ave. There will be food\, refreshments and live music. Free admission and open to the public. \nParade 10 – 12\nAfter-Party 12- 4
URL:https://ovseahags.com/event/st-patricks-day-parade/
LOCATION:https://norfolkparade.com/wp-content/uploads/2024/05/2025_Flyer.pdf
CATEGORIES:Events
ATTACH;FMTTYPE=image/png:https://ovseahags.com/wp-content/uploads/2026/01/ovparade.png
END:VEVENT
END:VCALENDAR