BEGIN:VCALENDAR
VERSION:2.0
PRODID:-//OV SEA HAGS - ECPv6.15.20//NONSGML v1.0//EN
CALSCALE:GREGORIAN
METHOD:PUBLISH
X-ORIGINAL-URL:https://ovseahags.com
X-WR-CALDESC:Events for OV SEA HAGS
REFRESH-INTERVAL;VALUE=DURATION:PT1H
X-Robots-Tag:noindex
X-PUBLISHED-TTL:PT1H
BEGIN:VTIMEZONE
TZID:America/New_York
BEGIN:DAYLIGHT
TZOFFSETFROM:-0500
TZOFFSETTO:-0400
TZNAME:EDT
DTSTART:20250309T070000
END:DAYLIGHT
BEGIN:STANDARD
TZOFFSETFROM:-0400
TZOFFSETTO:-0500
TZNAME:EST
DTSTART:20251102T060000
END:STANDARD
BEGIN:DAYLIGHT
TZOFFSETFROM:-0500
TZOFFSETTO:-0400
TZNAME:EDT
DTSTART:20260308T070000
END:DAYLIGHT
BEGIN:STANDARD
TZOFFSETFROM:-0400
TZOFFSETTO:-0500
TZNAME:EST
DTSTART:20261101T060000
END:STANDARD
BEGIN:DAYLIGHT
TZOFFSETFROM:-0500
TZOFFSETTO:-0400
TZNAME:EDT
DTSTART:20270314T070000
END:DAYLIGHT
BEGIN:STANDARD
TZOFFSETFROM:-0400
TZOFFSETTO:-0500
TZNAME:EST
DTSTART:20271107T060000
END:STANDARD
END:VTIMEZONE
BEGIN:VEVENT
DTSTART;TZID=America/New_York:20260419T170000
DTEND;TZID=America/New_York:20260419T190000
DTSTAMP:20260419T170710
CREATED:20260121T002026Z
LAST-MODIFIED:20260122T234013Z
UID:514-1776618000-1776625200@ovseahags.com
SUMMARY:Earth Day Fashion Trashion Witch Walk
DESCRIPTION:Presented by OV Sea Hags & VAFW. \nCelebrate Earth Day with a joyful\, creative twist. The Earth Day Fashion Trashion Witch Walk is a community runway-style event where sustainability meets style\, imagination\, and movement. \nLocal designers transform rescued fabric scraps into wearable art\, brought to life by our dancing witches as models. These are not costumes and not fast fashion. They are one-of-a-kind creations made from materials that would otherwise be discarded\, reimagined as powerful\, expressive design. \nThis event is playful\, collaborative\, and welcoming. It’s about creativity over consumption\, joy over judgment\, and community over competition. Expect music\, movement\, laughter\, and a runway experience that feels more like a celebration than a fashion show. \n5 PM – 6 PM: Meet & Greet. Grab a drink and some food. Maybe mingle with a witch or two before the show starts.\n6 PM – 7 PM: The “witch-walk” begins as our witchy models strut the runway in their designer threads made from scraps. There will be a panel of judges PLUS live audience voting! The top 3 designs (and the audience winner) will receive in no particular order: cash prizes\, gift cards\, tickets to VAFW\, as well as ALL designs will walk the runway in October at VA Fashion Week. The Grand Prize winner will have the opportunity to create a CAPSULE COLLECTION at VA Fashion Week!\nWhile votes are being tallied\, the OV Sea Hags will perform the German “Broom Dance” with a second round inviting the audience to dance with them. \nWitches are the natural caretakers of the earth. This walk honors that spirit through art\, reuse\, and collective joy. \nWe want to thank our sponsors VA Fashion Week\, CozyPure\, and AJ Gator’s East Beach for graciously allowing this event to take place! \n \n 
URL:https://ovseahags.com/event/earth-day-fashion-trashion-witch-walk/
LOCATION:AJ Gator’s East Beach\, 9575 Shore Dr\, Norfolk\, VA 23518\, Norfolk\, VA\, 23518\, United States
CATEGORIES:Events
ATTACH;FMTTYPE=image/png:https://ovseahags.com/wp-content/uploads/2026/01/fashion-witch.png
END:VEVENT
END:VCALENDAR