BEGIN:VCALENDAR
VERSION:2.0
PRODID:-//OV SEA HAGS - ECPv6.15.20//NONSGML v1.0//EN
CALSCALE:GREGORIAN
METHOD:PUBLISH
X-WR-CALNAME:OV SEA HAGS
X-ORIGINAL-URL:https://ovseahags.com
X-WR-CALDESC:Events for OV SEA HAGS
REFRESH-INTERVAL;VALUE=DURATION:PT1H
X-Robots-Tag:noindex
X-PUBLISHED-TTL:PT1H
BEGIN:VTIMEZONE
TZID:America/New_York
BEGIN:DAYLIGHT
TZOFFSETFROM:-0500
TZOFFSETTO:-0400
TZNAME:EDT
DTSTART:20240310T070000
END:DAYLIGHT
BEGIN:STANDARD
TZOFFSETFROM:-0400
TZOFFSETTO:-0500
TZNAME:EST
DTSTART:20241103T060000
END:STANDARD
BEGIN:DAYLIGHT
TZOFFSETFROM:-0500
TZOFFSETTO:-0400
TZNAME:EDT
DTSTART:20250309T070000
END:DAYLIGHT
BEGIN:STANDARD
TZOFFSETFROM:-0400
TZOFFSETTO:-0500
TZNAME:EST
DTSTART:20251102T060000
END:STANDARD
BEGIN:DAYLIGHT
TZOFFSETFROM:-0500
TZOFFSETTO:-0400
TZNAME:EDT
DTSTART:20260308T070000
END:DAYLIGHT
BEGIN:STANDARD
TZOFFSETFROM:-0400
TZOFFSETTO:-0500
TZNAME:EST
DTSTART:20261101T060000
END:STANDARD
BEGIN:DAYLIGHT
TZOFFSETFROM:-0500
TZOFFSETTO:-0400
TZNAME:EDT
DTSTART:20270314T070000
END:DAYLIGHT
BEGIN:STANDARD
TZOFFSETFROM:-0400
TZOFFSETTO:-0500
TZNAME:EST
DTSTART:20271107T060000
END:STANDARD
END:VTIMEZONE
BEGIN:VEVENT
DTSTART;TZID=America/New_York:20260314T100000
DTEND;TZID=America/New_York:20260314T120000
DTSTAMP:20260419T213203
CREATED:20260116T022353Z
LAST-MODIFIED:20260120T234510Z
UID:389-1773482400-1773489600@ovseahags.com
SUMMARY:St Patrick's Day Parade
DESCRIPTION:59th Annual Saint Patrick’s Day Parade\nCOME CHEER US ON IN OUR FIRST PARADE!\nThe parade begins at Northside Middle School. From that point\, it travels North on Granby\, turns left at A View Ave\, turns left on First View Street\, and ends at the intersection of First View and Government Ave. \nRemember that the parade afterparty\, thrown by the Columbian Club of Ocean View\, is held at 211 W. Government Ave. There will be food\, refreshments and live music. Free admission and open to the public. \nParade 10 – 12\nAfter-Party 12- 4
URL:https://ovseahags.com/event/st-patricks-day-parade/
LOCATION:https://norfolkparade.com/wp-content/uploads/2024/05/2025_Flyer.pdf
CATEGORIES:Events
ATTACH;FMTTYPE=image/png:https://ovseahags.com/wp-content/uploads/2026/01/ovparade.png
END:VEVENT
BEGIN:VEVENT
DTSTART;TZID=America/New_York:20260304T180000
DTEND;TZID=America/New_York:20260304T190000
DTSTAMP:20260419T213203
CREATED:20260220T174352Z
LAST-MODIFIED:20260220T174550Z
UID:652-1772647200-1772650800@ovseahags.com
SUMMARY:💃 OV Sea Hags Community Fundraiser
DESCRIPTION:Benefiting Samaritan House | In Observance of International Women’s Day \n📅 Wednesday\, March 4\n⏰ 6:00 PM – 7:00 PM\n📍 Mudita Cafe & Bar\n9647 First View Street\nNorfolk\, VA 23503 \nIn observance of International Women’s Day\, the OV Sea Hags are opening one of our rehearsals to the public — not just to perform\, but to give back. \nWe are growing our mission as a community fundraising troupe\, using movement\, visibility\, and joy to support meaningful causes. This rehearsal is dedicated to collecting donations for Samaritan House\, a local shelter serving women and families in crisis. \nHosted at Mudita Cafe & Bar\, a women-owned neighborhood bistro\, this event is a true collaboration — women leading\, women creating\, and women supporting other women in recognition of International Women’s Day. \nWe’ll be in our full dress rehearsal costumes for the Ocean View St. Patrick’s Day Parade\, performing our choreography to “W.I.T.C.H.” — an anthem of feminine strength\, resilience\, and joy — and the iconic German Broom Dance that has inspired women’s dance troupes around the world. 💃 \nThis isn’t a polished stage show. It’s real rehearsal energy — laughter\, fierce moments\, and community in motion. \n🎁 In place of admission\, please bring a donation for Samaritan House. Early March is the perfect time for a pre-spring reset. As you clean out cupboards and closets\, consider setting aside items that could directly support women rebuilding their lives. \nWe are collecting:\n• Non-perishable food\n• Gently used clothing in good condition\n• New bedding\, blankets\, or towels\n• New toiletries and personal care items \nHave an extra set of sheets you never opened? Toiletry gift sets you won’t use? Winter coats your family has outgrown? Canned goods you won’t eat? Bring them with you. \nA clearly marked donation station will be set up on the front outdoor patio. All items will be delivered directly to Samaritan House. \nLet’s mark International Women’s Day not just with words\, but with action. We hope you’ll join us. Come early and enjoy a drink and bite to eat!
URL:https://ovseahags.com/event/%f0%9f%92%83-ov-sea-hags-community-fundraiser/
LOCATION:Mudita Cafe\, 9647 First View St\, Norfolk\, VA\, 23503
ATTACH;FMTTYPE=image/jpeg:https://ovseahags.com/wp-content/uploads/2026/02/FB_IMG_1770858719456.jpg
END:VEVENT
BEGIN:VEVENT
DTSTART;TZID=America/New_York:20260213T183000
DTEND;TZID=America/New_York:20260213T220000
DTSTAMP:20260419T213203
CREATED:20260123T015424Z
LAST-MODIFIED:20260123T154804Z
UID:565-1771007400-1771020000@ovseahags.com
SUMMARY:Galentine's at Vintage Cauldron
DESCRIPTION:This magical evening takes place February 13\, from 6:30–10:00 pm. \nThe event will be held in the Vintage Cauldron shop’s plaza parking area\, while the shop itself remains open throughout the night. Inside\, participating artists will be offering flash tattoos\, adding to the immersive experience. \nGuests can enjoy a variety of food and drink options\, including BBQ Flavor Savor and Buzz Stop Coffee 757\, along with two unique mobile book experiences: Flourish Booktruck and Dead Petals Press. \nThe event will feature 30+ curated vendors\, showcasing everything from stained glass and oils to candles\, magical experiences\, oddities\, and community and charity outreach. Music will be part of the evening atmosphere as well. \n🧹 Special PerformanceThe OV Sea Hags will perform their signature Broom Dance between 8:00 to 8:30 pm\, followed by one or two additional rounds with audience participation highly encouraged. Grab your broomstick and come dance with us! 🧙‍♀️🧹💃 \nCome wander\, shop\, dance\, and celebrate a night of creativity\, community\, and a little bit of magic.
URL:https://ovseahags.com/event/galentines-at-vintage-cauldron/
LOCATION:Vintage Cauldron\, 3920 Virginia Beach Blvd\, Virginia Beach\, VA\, United States
ATTACH;FMTTYPE=image/jpeg:https://ovseahags.com/wp-content/uploads/2026/01/605291180_122202745190333869_7640793831536926980_n.jpg
END:VEVENT
BEGIN:VEVENT
DTSTART;TZID=America/New_York:20251216T180000
DTEND;TZID=America/New_York:20251216T210000
DTSTAMP:20260419T213203
CREATED:20251209T233030Z
LAST-MODIFIED:20260120T234516Z
UID:201-1765908000-1765918800@ovseahags.com
SUMMARY:Let’s Crash This Party! OV Sea Hags at AJ Gator’s
DESCRIPTION:Join us for a surprise sprinkle of witchy magic at AJ Gator’s in Ocean View! \n\nAJ Gator’s is hosting their annual Customer Appreciation Holiday Party on Tuesday\, December 16\, 2025\, from 6 PM to 9 PM. The OV Sea Hags have been invited to make a special appearance and bring a little broom-shaking joy to the celebration!\nWe’ll be performing during the band’s break – exact time announced once we’re on site\, but expect us to perform somewhere between 6:45 PM and 8:00 PM. (We’ll update a better time frame if we find out from AJ’s beforehand.) \n\nThis event is open to the public\, and we’d absolutely LOVE for our Ocean View neighbors to show up\, cheer us on\, and even dance with us. If you’ve ever wanted to see the only witch-dance troupe in Ocean View perform live\, this is your chance! \n\nAbout AJ Gator’s: A locally owned sports bar chain founded in 1996 by two friends\, AJ Gator’s has long been a Hampton Roads and North Carolina tradition. Known as a true community hangout\, their Ocean View location is the perfect backdrop for a little Sea Hag mischief.\nCome grab a drink\, enjoy the party\, and help us bring some OV energy to the holiday season!
URL:https://ovseahags.com/event/lets-crash-this-party-ov-sea-hags-at-aj-gators/
LOCATION:AJ Gator’s East Beach\, 9575 Shore Dr\, Norfolk\, VA 23518\, Norfolk\, VA\, 23518\, United States
CATEGORIES:Events
END:VEVENT
BEGIN:VEVENT
DTSTART;TZID=America/New_York:20251207T140000
DTEND;TZID=America/New_York:20251207T180000
DTSTAMP:20260419T213203
CREATED:20251202T004352Z
LAST-MODIFIED:20260121T004232Z
UID:192-1765116000-1765130400@ovseahags.com
SUMMARY:Secret Flash Mob - Krampas!
DESCRIPTION:Shhhh it’s a secret! The OV Sea Hags will perform a Flash Mob of the Broom Dance at a popular venue as part of a community event for a local business. We’re not disclosing where or the exact time. Hopefully you’ll be attending and you’ll see us! \nNow that’s it’s over we can reveal our event was at Maker’s Craft Brewery for their KRAMPUS event. We all had a wonderful time!
URL:https://ovseahags.com/event/secret-flash-mob/
LOCATION:VA
CATEGORIES:Events
END:VEVENT
BEGIN:VEVENT
DTSTART;TZID=America/New_York:20251122T190000
DTEND;TZID=America/New_York:20251122T200000
DTSTAMP:20260419T213203
CREATED:20251119T003748Z
LAST-MODIFIED:20260120T234529Z
UID:187-1763838000-1763841600@ovseahags.com
SUMMARY:Impromptu Flash Mob
DESCRIPTION:Mudita Cafe is having a “Witches & Wizards” Harry Potter themed event Saturday night. A few of us decided we’re going to meet at 7 PM maybe have a drink or two then pull out the speaker and do our BROOM DANCE unannounced and unscheduled. ALL ARE WELCOME TO JOIN US!
URL:https://ovseahags.com/event/impromptu-flash-mob/
LOCATION:Mudita Cafe\, 9647 First View St\, Norfolk\, VA\, 23503
CATEGORIES:Events
END:VEVENT
BEGIN:VEVENT
DTSTART;TZID=America/New_York:20251116T140000
DTEND;TZID=America/New_York:20251116T150000
DTSTAMP:20260419T213203
CREATED:20251111T003025Z
LAST-MODIFIED:20260120T234536Z
UID:182-1763301600-1763305200@ovseahags.com
SUMMARY:BROOM DANCE and OLDIES
DESCRIPTION:November is Long-Term Care Awareness Month so we thought it would be fun to go dancing at a local nursing home and share our magical happiness\, especially as the holidays are approaching. We’ll perform our Broom Dance followed by two “Golden Oldies”. While we hand out sweet treats we’ll dance around to “SUGAR SUGAR” then we’ll do “The Twist” and invite residents to come up and dance with us. Afterwards\, we’ll spend a little time visiting with them and saying HI to any residents who are bed-ridden and couldn’t join us in the community room. Casting our joy like sea spray!!
URL:https://ovseahags.com/event/broom-dance-and-oldies/
LOCATION:Autumn Care Nursing Home\, 1401 Halstead Ave\, Norfolk\, VA\, 23502
CATEGORIES:Events
END:VEVENT
BEGIN:VEVENT
DTSTART;TZID=America/New_York:20251031T180000
DTEND;TZID=America/New_York:20251031T200000
DTSTAMP:20260419T213203
CREATED:20251015T231611Z
LAST-MODIFIED:20260120T234541Z
UID:177-1761933600-1761940800@ovseahags.com
SUMMARY:WITCHES WALK & BROOM DANCE
DESCRIPTION:The OV Sea Hags are stirring up a little Halloween enchantment in Ocean View!\nWe’ll start the evening with a pre-meet at Mudita Café for a witches brew\, then stroll to the newest little green space at Ocean View Beach Park (First View entrance) which the Sea Hags affectionately call GREENIES GRAVEYARD.\nThere\, we’ll share a short story followed by our spirited Broom Dance\, a fun community performance inspired by the world-famous Wolfshäger Hexenbrut dancers. Afterward\, we’ll invite the audience to join us for a spooky audience participation freestyle dance\, then we’ll have Selfies with the Sea Hags and a short Witch Walk Parade around the promenade — complete with glow stick “wands” and a few treats for any little ghouls who wander by.\nIt’s all about celebrating the season\, our Ocean View neighborhood\, and the joy of dancing together. No vendors\, no tickets — just local fun under the moonlight in our new community park.\n Schedule:\n6:00 PM – Meet-up at Mudita Café for brews & concoctions\n7:00 PM – Dancing at Greenies Graveyard\, Ocean View Beach Park (First View entrance)\n7:30 PM – Photos + Candy + Witch Walk Parade (with glow sticks)\n8:00 PM – Optional social hour at De Rican Chef for Sea Hag martinis & enchanted bites\n BRING YOUR BROOM AND HAT AND COME DANCE WITH US IN THE PARK! \n  Free • Family Friendly • All Ages Welcome\nABOUT US:The OV Sea Hags are a community-based amateur dance troupe founded in Norfolk\, Virginia. They are the first and only group in Coastal Virginia officially recognized as an affiliate of the original Wolfshäger Hexenbrut in Germany.\nComprised of women of all ages and backgrounds\, the OV Sea Hags share a mission to spread joy\, laughter\, and connection through creative expression\, performance\, and community spirit.
URL:https://ovseahags.com/event/witches-walk-broom-dance/
LOCATION:Ocean View Beach Park\, 200 W. Ocean View Ane\, Norfolk\, VA\, 23503
CATEGORIES:Events
END:VEVENT
BEGIN:VEVENT
DTSTART;TZID=America/New_York:20251029T190000
DTEND;TZID=America/New_York:20251029T200000
DTSTAMP:20260419T213203
CREATED:20251010T225330Z
LAST-MODIFIED:20260120T234547Z
UID:170-1761764400-1761768000@ovseahags.com
SUMMARY:APPLEBEE'S TRUNK OR TREAT
DESCRIPTION:Join us at this community event in Ocean View at Applebee’s Trick or Trunk!
URL:https://ovseahags.com/event/applebees-trunk-or-treat/
LOCATION:Applebee’s\, 725 E Little Creek Rd\, Norfolk\, Virginia\, 23518
CATEGORIES:Events
END:VEVENT
END:VCALENDAR