BEGIN:VCALENDAR
VERSION:2.0
PRODID:-//OV SEA HAGS - ECPv6.15.20//NONSGML v1.0//EN
CALSCALE:GREGORIAN
METHOD:PUBLISH
X-ORIGINAL-URL:https://ovseahags.com
X-WR-CALDESC:Events for OV SEA HAGS
REFRESH-INTERVAL;VALUE=DURATION:PT1H
X-Robots-Tag:noindex
X-PUBLISHED-TTL:PT1H
BEGIN:VTIMEZONE
TZID:America/New_York
BEGIN:DAYLIGHT
TZOFFSETFROM:-0500
TZOFFSETTO:-0400
TZNAME:EDT
DTSTART:20250309T070000
END:DAYLIGHT
BEGIN:STANDARD
TZOFFSETFROM:-0400
TZOFFSETTO:-0500
TZNAME:EST
DTSTART:20251102T060000
END:STANDARD
BEGIN:DAYLIGHT
TZOFFSETFROM:-0500
TZOFFSETTO:-0400
TZNAME:EDT
DTSTART:20260308T070000
END:DAYLIGHT
BEGIN:STANDARD
TZOFFSETFROM:-0400
TZOFFSETTO:-0500
TZNAME:EST
DTSTART:20261101T060000
END:STANDARD
BEGIN:DAYLIGHT
TZOFFSETFROM:-0500
TZOFFSETTO:-0400
TZNAME:EDT
DTSTART:20270314T070000
END:DAYLIGHT
BEGIN:STANDARD
TZOFFSETFROM:-0400
TZOFFSETTO:-0500
TZNAME:EST
DTSTART:20271107T060000
END:STANDARD
END:VTIMEZONE
BEGIN:VEVENT
DTSTART;TZID=America/New_York:20260213T183000
DTEND;TZID=America/New_York:20260213T220000
DTSTAMP:20260419T174230
CREATED:20260123T015424Z
LAST-MODIFIED:20260123T154804Z
UID:565-1771007400-1771020000@ovseahags.com
SUMMARY:Galentine's at Vintage Cauldron
DESCRIPTION:This magical evening takes place February 13\, from 6:30–10:00 pm. \nThe event will be held in the Vintage Cauldron shop’s plaza parking area\, while the shop itself remains open throughout the night. Inside\, participating artists will be offering flash tattoos\, adding to the immersive experience. \nGuests can enjoy a variety of food and drink options\, including BBQ Flavor Savor and Buzz Stop Coffee 757\, along with two unique mobile book experiences: Flourish Booktruck and Dead Petals Press. \nThe event will feature 30+ curated vendors\, showcasing everything from stained glass and oils to candles\, magical experiences\, oddities\, and community and charity outreach. Music will be part of the evening atmosphere as well. \n🧹 Special PerformanceThe OV Sea Hags will perform their signature Broom Dance between 8:00 to 8:30 pm\, followed by one or two additional rounds with audience participation highly encouraged. Grab your broomstick and come dance with us! 🧙‍♀️🧹💃 \nCome wander\, shop\, dance\, and celebrate a night of creativity\, community\, and a little bit of magic.
URL:https://ovseahags.com/event/galentines-at-vintage-cauldron/
LOCATION:Vintage Cauldron\, 3920 Virginia Beach Blvd\, Virginia Beach\, VA\, United States
ATTACH;FMTTYPE=image/jpeg:https://ovseahags.com/wp-content/uploads/2026/01/605291180_122202745190333869_7640793831536926980_n.jpg
END:VEVENT
END:VCALENDAR